Workbook

Sheet check
A1: Checklist of TIGER II Project Components & Benefit-Cost Analysis Categories: Cosmos
A3: Benefit-Cost Item
A4: Initial (construction/design/land acquisition) | B4: ü
A5: Annual (operating and maintenance) | B5: ü
A6: Salvage Value | B6: ü
A8: Safety | B8: -
A9: Auto VHT (value of time + environmental benefits) | B9: -
A10: Auto VMT (operating costs + environmental benefits) | B10: -
A11: Transit VHT | B11: ü
A12: Transit VMT | B12: ü
A13: Bicycle/Pedestrian Health | B13: -
A14: Water System Reliability | B14: ü
A16: Legend
A17: ü: currently reflected in BCA
A18: ? : not yet shown in BCA… estimate possible?
A19: - : not applicable

Sheet notes

Sheet costs
B1: BL | D1: CS | F1: Total (Constant 2010$) | G1: Total (Present Value) | I1: Discount Rate (copied from <benefits>) | J1: ='benefits & sum'!$I$1 -> 0.03
A2: 2012 | B2: 6400 | D2: =4000000+280000+4800 -> 4284800 | F2: =SUM(D2:E2)-SUM(B2:C2) -> 4278400 | G2: =F2/((1+$J$1)^(A2-2010)) -> 4032802.3
A3: 2013 | B3: 6400 | D3: 4800 | F3: =SUM(D3:E3)-SUM(B3:C3) -> -1600 | G3: =F3/((1+$J$1)^(A3-2010)) -> -1464.2267
A4: 2014 | B4: 6400 | D4: 4800 | F4: =SUM(D4:E4)-SUM(B4:C4) -> -1600 | G4: =F4/((1+$J$1)^(A4-2010)) -> -1421.5793
A5: 2015 | B5: 6400 | D5: 4800 | F5: =SUM(D5:E5)-SUM(B5:C5) -> -1600 | G5: =F5/((1+$J$1)^(A5-2010)) -> -1380.1741
A6: 2016 | B6: 6400 | D6: 4800 | F6: =SUM(D6:E6)-SUM(B6:C6) -> -1600 | G6: =F6/((1+$J$1)^(A6-2010)) -> -1339.9748
A7: 2017 | B7: 6400 | D7: 4800 | F7: =SUM(D7:E7)-SUM(B7:C7) -> -1600 | G7: =F7/((1+$J$1)^(A7-2010)) -> -1300.9464
A8: 2018 | B8: 6400 | D8: 4800 | F8: =SUM(D8:E8)-SUM(B8:C8) -> -1600 | G8: =F8/((1+$J$1)^(A8-2010)) -> -1263.0548
A9: 2019 | B9: 6400 | D9: 4800 | F9: =SUM(D9:E9)-SUM(B9:C9) -> -1600 | G9: =F9/((1+$J$1)^(A9-2010)) -> -1226.2668
A10: 2020 | B10: 6400 | D10: 4800 | F10: =SUM(D10:E10)-SUM(B10:C10) -> -1600 | G10: =F10/((1+$J$1)^(A10-2010)) -> -1190.5503
A11: 2021 | B11: 6400 | D11: 4800 | F11: =SUM(D11:E11)-SUM(B11:C11) -> -1600 | G11: =F11/((1+$J$1)^(A11-2010)) -> -1155.874
A12: 2022 | B12: 6400 | D12: 4800 | F12: =SUM(D12:E12)-SUM(B12:C12) -> -1600 | G12: =F12/((1+$J$1)^(A12-2010)) -> -1122.2078
A13: 2023 | B13: 6400 | D13: 4800 | F13: =SUM(D13:E13)-SUM(B13:C13) -> -1600 | G13: =F13/((1+$J$1)^(A13-2010)) -> -1089.5221
A14: 2024 | B14: 6400 | D14: 4800 | F14: =SUM(D14:E14)-SUM(B14:C14) -> -1600 | G14: =F14/((1+$J$1)^(A14-2010)) -> -1057.7885
... A20: 2030 | B20: 6400 | D20: 4800 | F20: =SUM(D20:E20)-SUM(B20:C20) -> -1600 | G20: =F20/((1+$J$1)^(A20-2010)) -> -885.88121
A21: 2031 | B21: =4000000+280000+1100000+6400 -> 5386400 | D21: =4800-945000 -> -940200 | F21: =SUM(D21:E21)-SUM(B21:C21) -> -6326600 | G21: =F21/((1+$J$1)^(A21-2010)) -> -3400859.2
B22: ^^^ INCORPORATES RESIDUAL VALUE (IF ANY) BEYOND YEAR 20 ^^^
B23: 2012 - 2031 | G23: =SUM(G2:G22) -> 611200.68

Sheet benefits & sum
B1: Travel | C1: Water System | E1: Total (Constant 2010$) | F1: Total (Present Value) | H1: Discount Rate | I1: 0.03
A2: 2012 | B2: =travelDetail!N2 -> 18586.615 | C2: =waterDetail!D2 -> 56250 | E2: =SUM(B2:D2) -> 74836.615 | F2: =E2/((1+$I$1)^(A2-2010)) -> 70540.687
A3: 2013 | B3: =travelDetail!$N$2 -> 18586.615 | C3: =waterDetail!D3 -> 56250 | E3: =SUM(B3:D3) -> 74836.615 | F3: =E3/((1+$I$1)^(A3-2010)) -> 68486.104
A4: 2014 | B4: =travelDetail!$N$2 -> 18586.615 | C4: =waterDetail!D4 -> 56250 | E4: =SUM(B4:D4) -> 74836.615 | F4: =E4/((1+$I$1)^(A4-2010)) -> 66491.363
A5: 2015 | B5: =travelDetail!$N$2 -> 18586.615 | C5: =waterDetail!D5 -> 56250 | E5: =SUM(B5:D5) -> 74836.615 | F5: =E5/((1+$I$1)^(A5-2010)) -> 64554.721
A6: 2016 | B6: =travelDetail!$N$2 -> 18586.615 | C6: =waterDetail!D6 -> 56250 | E6: =SUM(B6:D6) -> 74836.615 | F6: =E6/((1+$I$1)^(A6-2010)) -> 62674.487
A7: 2017 | B7: =travelDetail!$N$2 -> 18586.615 | C7: =waterDetail!D7 -> 56250 | E7: =SUM(B7:D7) -> 74836.615 | F7: =E7/((1+$I$1)^(A7-2010)) -> 60849.016
A8: 2018 | B8: =travelDetail!$N$2 -> 18586.615 | C8: =waterDetail!D8 -> 56250 | E8: =SUM(B8:D8) -> 74836.615 | F8: =E8/((1+$I$1)^(A8-2010)) -> 59076.715
A9: 2019 | B9: =travelDetail!$N$2 -> 18586.615 | C9: =waterDetail!D9 -> 56250 | E9: =SUM(B9:D9) -> 74836.615 | F9: =E9/((1+$I$1)^(A9-2010)) -> 57356.034
A10: 2020 | B10: =travelDetail!$N$2 -> 18586.615 | C10: =waterDetail!D10 -> 56250 | E10: =SUM(B10:D10) -> 74836.615 | F10: =E10/((1+$I$1)^(A10-2010)) -> 55685.47
A11: 2021 | B11: =travelDetail!$N$2 -> 18586.615 | C11: =waterDetail!D11 -> 56250 | E11: =SUM(B11:D11) -> 74836.615 | F11: =E11/((1+$I$1)^(A11-2010)) -> 54063.563
A12: 2022 | B12: =travelDetail!$N$2 -> 18586.615 | C12: =waterDetail!D12 -> 75000 | E12: =SUM(B12:D12) -> 93586.615 | F12: =E12/((1+$I$1)^(A12-2010)) -> 65639.769
A13: 2023 | B13: =travelDetail!$N$2 -> 18586.615 | C13: =waterDetail!D13 -> 75000 | E13: =SUM(B13:D13) -> 93586.615 | F13: =E13/((1+$I$1)^(A13-2010)) -> 63727.931
A14: 2024 | B14: =travelDetail!$N$2 -> 18586.615 | C14: =waterDetail!D14 -> 75000 | E14: =SUM(B14:D14) -> 93586.615 | F14: =E14/((1+$I$1)^(A14-2010)) -> 61871.777
... A21: 2031 | B21: =travelDetail!$N$2 -> 18586.615 | C21: =waterDetail!D21 -> 75000 | E21: =SUM(B21:D21) -> 93586.615 | F21: =E21/((1+$I$1)^(A21-2010)) -> 50307.417
B23: Benefits: 2012 - 2031 | F23: =SUM(F2:F22) -> 1196496.3
B24: Costs: 2012 - 2031 | F24: =costs!G23 -> 611200.68
B25: Benefit : Cost Ratio | F25: =F23/F24 -> 1.9576161

Sheet travelDetail
B1: Transit Vehicle Operating Cost ($/mi) [TREDIS] | C1: Transit Vehicle Environmental Cost ($/mi) [TREDIS, Free Flow] | D1: Crew Cost Factor ($/hr) [TREDIS * 75%] | E1: Commute Length for Visually / Physically Disabled Non-Driver Residents (ft) | F1: Commute Length for Visually / Physically Disabled Non-Driver Residents (mins) | G1: Annual Commute Trips | H1: Annual Savings from Elimination of Transit Trips for Disadvantaged Community with (ADA Compliant) Complete Street | J1: Annual School Bus Time Savings with Complete Street (hrs) | K1: Annual School Bus VMT Savings with Complete Street | L1: Annual School Bus Cost Savings with Complete Street | N1: CS Benefit $
A2: 2012 | B2: 1.55 | C2: 0.07 | D2: =75%*22.31 -> 16.7325 | E2: 1500 | F2: 10 | G2: =1000*5 -> 5000 | H2: =($B$2+$C$2)/5280*$E$2*$G$2+$D$2/60*$F$2*$G$2 -> 16244.886 | J2: =45+0.5*180 -> 135 | K2: =(500+1000)*180/5280 -> 51.136364 | L2: =$D$2*$J$2+($B$2+$C$2)*$K$2 -> 2341.7284 | N2: =H2+L2 -> 18586.615
A3: 2013
A4: 2014
A5: 2015
A6: 2016
A7: 2017
A8: 2018
A9: 2019
A10: 2020
A11: 2021
A12: 2022
A13: 2023
A14: 2024
... A21: 2031

Sheet waterDetail
B1: BL - Projected Annual Water System Line Breaks | C1: Cost to Repair per Break | D1: CS Benefit from Relocation of Water Lines & Elimination of Road Work to Access for Repair
A2: 2012 | B2: 7.5 | C2: 7500 | D2: =B2*$C$2 -> 56250
A3: 2013 | B3: 7.5 | D3: =B3*$C$2 -> 56250
A4: 2014 | B4: 7.5 | D4: =B4*$C$2 -> 56250
A5: 2015 | B5: 7.5 | D5: =B5*$C$2 -> 56250
A6: 2016 | B6: 7.5 | D6: =B6*$C$2 -> 56250
A7: 2017 | B7: 7.5 | D7: =B7*$C$2 -> 56250
A8: 2018 | B8: 7.5 | D8: =B8*$C$2 -> 56250
A9: 2019 | B9: 7.5 | D9: =B9*$C$2 -> 56250
A10: 2020 | B10: 7.5 | D10: =B10*$C$2 -> 56250
A11: 2021 | B11: 7.5 | D11: =B11*$C$2 -> 56250
A12: 2022 | B12: 10 | D12: =B12*$C$2 -> 75000
A13: 2023 | B13: 10 | D13: =B13*$C$2 -> 75000
A14: 2024 | B14: 10 | D14: =B14*$C$2 -> 75000
... A21: 2031 | B21: 10 | D21: =B21*$C$2 -> 75000
